BEGIN:VCALENDAR
VERSION:2.0
PRODID:-//ChamberMaster//Event Calendar 2.0//EN
METHOD:PUBLISH
X-PUBLISHED-TTL:P3D
REFRESH-INTERVAL:P3D
CALSCALE:GREGORIAN
BEGIN:VEVENT
DTSTART:20230915T010000Z
DTEND:20230915T040000Z
X-MICROSOFT-CDO-ALLDAYEVENT:FALSE
SUMMARY:21st Annual Raise the Roof Auction
DESCRIPTION:This Raise the Roof will be an impactful gathering that brings together sponsors\, donors\, businesses and community members with a shared vision of creating a hopeful future for potential homebuyers and their families. The online silent auction begins September 7th and ends September 14th. The party on the 14th of September will include games\, entertainment\, a trashion show\, beer\, wine\, an abundance of hearty hors d'oeuvres and more. Anyone can participate in our silent auction! We have a range of items from businesses throughout Whatcom County. Including Locally made Whatcom products\, experiences\, hotel stays\, gift certificates and more! Visit our Auctria page to view items\, register and bid!
X-ALT-DESC;FMTTYPE=text/html:This Raise the Roof will be an impactful gathering that brings together sponsors\, donors\, businesses and community members with a shared vision of creating a hopeful future for potential homebuyers and their families. The online silent auction begins September 7th and ends September 14th. The party on the 14th of September will include games\, entertainment\, a trashion show\, beer\, wine\, an abundance of hearty hors d&rsquo\;oeuvres and more. Anyone can participate in our silent auction! We have a range of items from businesses throughout Whatcom County. Including Locally made Whatcom products\, experiences\, hotel stays\, gift certificates and more! Visit our Auctria page to view items\, register and bid!
LOCATION:Larmont Manor 405 Fieldston Road Bellingham\, Washington 98225
UID:e.2362.10960
SEQUENCE:3
DTSTAMP:20260421T020509Z
URL:https://business.ferndale-chamber.com/events/details/21st-annual-raise-the-roof-auction-10960
END:VEVENT

END:VCALENDAR
