BEGIN:VCALENDAR
VERSION:2.0
PRODID:-//ChamberMaster//Event Calendar 2.0//EN
METHOD:PUBLISH
X-PUBLISHED-TTL:P3D
REFRESH-INTERVAL:P3D
CALSCALE:GREGORIAN
BEGIN:VEVENT
DTSTART:20180503T140000Z
DTEND:20180503T160000Z
X-MICROSOFT-CDO-ALLDAYEVENT:FALSE
SUMMARY:2nd Annual Justice for All Breakfast Fundraiser
DESCRIPTION:Fundraising breakfast with special guest speakers Lt. Gov. Cyrus Habib and former U.S. Attorney John McKay. Update by Tarra Simmons.
X-ALT-DESC;FMTTYPE=text/html:Fundraising breakfast with special guest speakers Lt. Gov. Cyrus Habib and former U.S. Attorney John McKay. Update by Tarra Simmons.
LOCATION:Northwood Hall 3240 Northwest Avenue Bellingham\, WA
UID:e.2362.7877
SEQUENCE:3
DTSTAMP:20260425T035727Z
URL:https://business.ferndale-chamber.com/events/details/2nd-annual-justice-for-all-breakfast-fundraiser-7877
END:VEVENT

END:VCALENDAR
