BEGIN:VCALENDAR
VERSION:2.0
PRODID:-//ChamberMaster//Event Calendar 2.0//EN
METHOD:PUBLISH
X-PUBLISHED-TTL:P3D
REFRESH-INTERVAL:P3D
CALSCALE:GREGORIAN
BEGIN:VEVENT
DTSTART:20171102T020000Z
DTEND:20171102T040000Z
X-MICROSOFT-CDO-ALLDAYEVENT:FALSE
SUMMARY:Birchwood Garden Club's November Meeting
DESCRIPTION:Birchwood Garden Club's November Meeting When: Wednesday\, November 1\, 2017 Time: 7:00 PM Place: Whatcom Museum Rotunda Room\, 121 Prospect Street\, Bellingham\, WA 98225 Website: www.birchwoodgardenclub.org Garden Mentors founder\, Robin Haglund\, is a pioneering garden coach and award winning Seattle garden designer with a passion for cultivating beautiful\, functional\, organically-focused\, native inspired\, often edible\, sustainable outdoor spaces. Robin is bringing her spectacular\, "365 Days of Non-Stop Color" presentation to BGC's November meeting. Please join us!!! BGC membership is open to anyone in Whatcom or Skagit County.
X-ALT-DESC;FMTTYPE=text/html:Birchwood Garden Club&#39\;s November Meeting When: Wednesday\, November 1\, 2017 Time: 7:00 PM Place: Whatcom Museum Rotunda Room\, 121 Prospect Street\, Bellingham\, WA 98225 Website: www.birchwoodgardenclub.org Garden Mentors founder\, Robin Haglund\, is a pioneering garden coach and award winning Seattle garden designer with a passion for cultivating beautiful\, functional\, organically-focused\, native inspired\, often edible\, sustainable outdoor spaces. Robin is bringing her spectacular\, &quot\;365 Days of Non-Stop Color&quot\; presentation to BGC&#39\;s November meeting. Please join us!!! BGC membership is open to anyone in Whatcom or Skagit County.
LOCATION:Whatcom Museum Rotunda Room 121 Prospect Street Bellingham\, WA 98225
UID:e.2362.6433
SEQUENCE:3
DTSTAMP:20260425T133849Z
URL:https://business.ferndale-chamber.com/events/details/birchwood-garden-club-s-november-meeting-6433
END:VEVENT

END:VCALENDAR
