BEGIN:VCALENDAR
VERSION:2.0
PRODID:-//ChamberMaster//Event Calendar 2.0//EN
METHOD:PUBLISH
X-PUBLISHED-TTL:P3D
REFRESH-INTERVAL:P3D
CALSCALE:GREGORIAN
BEGIN:VEVENT
DTSTART:20180522T193000Z
DTEND:20180522T210000Z
X-MICROSOFT-CDO-ALLDAYEVENT:FALSE
SUMMARY:Chamber Industry Tour - PSE Ferndale Generating Station
DESCRIPTION:The Chamber is proud to announce our first Industry Tour.  We love getting to know our members and what they do and we know you do to.  What better way than getting an in-depth tour of companies like PSE Ferndale Generating Station and seeing how it's done.  And who doesn't want to know how energy is actually made?!  Join us for our inaugural Industry Tour today to reserve your spot!\n\n\n\nPlease dress for walking and stair climbing tour.  No heels\, open toes\, flip flops or sandals please.  Hardhats and eye safety wear will be provided.
X-ALT-DESC;FMTTYPE=text/html:<span style="color: rgb(113\, 113\, 113)\; font-family: &quot\;Open Sans&quot\;\, &quot\;Lucida Sans&quot\;\, &quot\;Lucida Grande&quot\;\, &quot\;Lucida Sans Unicode&quot\;\, sans-serif\; font-size: 16px\; background-color: rgba(255\, 255\, 255\, 0.95)\;">The Chamber is proud to announce our first Industry Tour.&nbsp\; We love getting to know our members and what they do and we know you do to.&nbsp\; What better way than getting an in-depth tour of companies like PSE Ferndale Generating Station and seeing how it&#39\;s done.&nbsp\; And who doesn&#39\;t want to know how energy is actually made?!&nbsp\; Join us for our inaugural&nbsp\;Industry Tour today to reserve your spot!<br />\n<br />\nPlease dress for walking and stair climbing tour.&nbsp\; No heels\, open toes\, flip flops or sandals please.&nbsp\; Hardhats and eye safety wear will be provided.</span><br />\n&nbsp\;
LOCATION:PSE Ferndale Generating Station 5105 Lake Terrell Rd. Ferndale\, WA 98248
UID:e.2362.8899
SEQUENCE:3
DTSTAMP:20260425T035731Z
URL:https://business.ferndale-chamber.com/events/details/chamber-industry-tour-pse-ferndale-generating-station-8899
END:VEVENT

END:VCALENDAR
