BEGIN:VCALENDAR
VERSION:2.0
PRODID:-//ChamberMaster//Event Calendar 2.0//EN
METHOD:PUBLISH
X-PUBLISHED-TTL:P3D
REFRESH-INTERVAL:P3D
CALSCALE:GREGORIAN
BEGIN:VEVENT
DTSTART:20170517T190000Z
DTEND:20170517T200000Z
X-MICROSOFT-CDO-ALLDAYEVENT:FALSE
SUMMARY:Chamber Member Luncheon Meeting
DESCRIPTION:Join us for our monthly membership lunch! Lunches are a great way to network & create relationships with local colleagues. \n\n\n\nThis months sponsor is WhatcomTalk.com
X-ALT-DESC;FMTTYPE=text/html:Join us for our monthly membership lunch! Lunches are a great way to network &amp\; create relationships with local colleagues.&nbsp\;<br />\n<br />\nThis months sponsor is WhatcomTalk.com<br />\n&nbsp\;
LOCATION:Silver Reef Event Center 4876 Haxton Way\, Ferndale\, WA 98248
UID:e.2362.5063
SEQUENCE:3
DTSTAMP:20260425T232519Z
URL:https://business.ferndale-chamber.com/events/details/chamber-member-luncheon-meeting-05-17-2017-5063
END:VEVENT

END:VCALENDAR
