BEGIN:VCALENDAR
VERSION:2.0
PRODID:-//ChamberMaster//Event Calendar 2.0//EN
METHOD:PUBLISH
X-PUBLISHED-TTL:P3D
REFRESH-INTERVAL:P3D
CALSCALE:GREGORIAN
BEGIN:VEVENT
DTSTART:20171115T193000Z
DTEND:20171115T210000Z
X-MICROSOFT-CDO-ALLDAYEVENT:FALSE
SUMMARY:Chamber Member Luncheon Meeting
DESCRIPTION:Join us for our Monthly Membership Lunch! This month we will be hosting Jon Mutchler\, Mayor of Ferndale as our guest speaker. \n\nOur sponsor is Washington Health Professionals.
X-ALT-DESC;FMTTYPE=text/html:Join us for our Monthly Membership Lunch! This month we will be hosting Jon Mutchler\, Mayor of Ferndale as&nbsp\;our guest speaker.&nbsp\;<br />\nOur sponsor is Washington Health Professionals. &nbsp\;
LOCATION:Silver Reef Event Center 4876 Haxton Way Ferndale WA
UID:e.2362.6040
SEQUENCE:3
DTSTAMP:20260425T133520Z
URL:https://business.ferndale-chamber.com/events/details/chamber-member-luncheon-meeting-11-15-2017-6040
END:VEVENT

END:VCALENDAR
