BEGIN:VCALENDAR
VERSION:2.0
PRODID:-//ChamberMaster//Event Calendar 2.0//EN
METHOD:PUBLISH
X-PUBLISHED-TTL:P3D
REFRESH-INTERVAL:P3D
CALSCALE:GREGORIAN
BEGIN:VEVENT
DTSTART:20170315T183000Z
DTEND:20170315T200000Z
X-MICROSOFT-CDO-ALLDAYEVENT:FALSE
SUMMARY:Chamber Member Luncheon Meeting
DESCRIPTION:Join us for our monthly membership lunch! Lunches are a great way to network & create relationships with local colleagues. \n\n\n\nThis month we will have Professor Hart Hodges speaking on behalf of the WWU Economics Department.  Each year we invite the WWU Economics Department to update us on the ongoing changes to the local\, state and US economy as it affects our businesses.  Hopefully Hart will tell us how lucky we're going to get in this years ever changing economy.
X-ALT-DESC;FMTTYPE=text/html:Join us for our monthly membership lunch! Lunches are a great way to network &amp\; create relationships with local colleagues.&nbsp\;<br />\n<br />\nThis month we will have Professor Hart Hodges speaking on behalf of the WWU Economics Department. &nbsp\;Each year we invite the WWU Economics Department to update us on the ongoing changes to the local\, state and US economy as it affects our businesses. &nbsp\;Hopefully Hart will tell us how lucky we&#39\;re going to get in this years ever changing economy.
LOCATION:Silver Reef Hotel & Casino 4876 Haxton Way\, Ferndale\, WA 98248
UID:e.2362.5061
SEQUENCE:3
DTSTAMP:20260419T123540Z
URL:https://business.ferndale-chamber.com/events/details/chamber-member-luncheon-meeting-5061
END:VEVENT

END:VCALENDAR
