BEGIN:VCALENDAR
VERSION:2.0
PRODID:-//ChamberMaster//Event Calendar 2.0//EN
METHOD:PUBLISH
X-PUBLISHED-TTL:P3D
REFRESH-INTERVAL:P3D
CALSCALE:GREGORIAN
BEGIN:VEVENT
DTSTART:20170907T190000Z
DTEND:20170907T210000Z
X-MICROSOFT-CDO-ALLDAYEVENT:FALSE
SUMMARY:Commercial Real Estate Wine & Walk Tour
DESCRIPTION:Join the Ferndale Downtown Assoc.\, Ferndale Chamber and City of Ferndale as we make a concerted effort to grow our downtown and fill the vacancies with businesses that our community wants and needs.  We will take a short walking tour of properties in the downtown corridor that will be open and ready to showcase for those interested parties.  We will also have information an many of the other available properties so that you don't have to go looking to find what's available.
X-ALT-DESC;FMTTYPE=text/html:Join the Ferndale Downtown Assoc.\, Ferndale Chamber and City of Ferndale as we make a concerted effort to grow our downtown and fill the vacancies with businesses that our community wants and needs. &nbsp\;We will take a short walking tour of properties in the downtown corridor that will be open and ready to showcase for those interested parties. &nbsp\;We will also have information an many of the other available properties so that you don&#39\;t have to go looking to find what&#39\;s available.
LOCATION:We still start the tour at Ferndale Chamber offices in Pioneer Pavilion\, 2007 Cherry Street (next to the Boys & Girls Club)\, where you will be provided with wine and snacks. There will be information available there on many of the properties available in Ferndale and from there we will take a short walking tour through some downtown properties as well. Please wear appropriate shoes and clothing. We will go\, rain or shine.
UID:e.2362.5890
SEQUENCE:3
DTSTAMP:20260425T170948Z
URL:https://business.ferndale-chamber.com/events/details/commercial-real-estate-wine-walk-tour-5890
END:VEVENT

END:VCALENDAR
