BEGIN:VCALENDAR
VERSION:2.0
PRODID:-//ChamberMaster//Event Calendar 2.0//EN
METHOD:PUBLISH
X-PUBLISHED-TTL:P3D
REFRESH-INTERVAL:P3D
CALSCALE:GREGORIAN
BEGIN:VEVENT
DTSTART:20251116T060000Z
DTEND:20251116T200000Z
X-MICROSOFT-CDO-ALLDAYEVENT:FALSE
SUMMARY:Days of Giving Donation Center
DESCRIPTION:Join us as we come together to support our neighbors throughout Whatcom County. The Days of Giving Donation Center is your one-stop drop-off location to help families\, individuals\, and pets in need this season.\n\n\n\nWe're partnering with local nonprofits including the Miracle Food Network\, Cascade Connections\, Whatcom Humane Society\, Ferndale Resource Center\, and several food banks and community service organizations to make sure donations go right where they're needed most.\n\n\n\nWhat to Bring:   Non-perishable food items   Pet food & pet care supplies   Diapers & baby wipes   Hats\, coats\, gloves & warm clothing   Toilet paper & toiletries   Feminine hygiene products   Household essentials & cleaning supplies Let's fill the building with generosity and kindness. Every item makes a difference.
X-ALT-DESC;FMTTYPE=text/html:Join us as we come together to support our neighbors throughout Whatcom County. The Days of Giving Donation Center is your one-stop drop-off location to help families\, individuals\, and pets in need this season.<br />\n<br />\nWe&rsquo\;re partnering with local nonprofits including the Miracle Food Network\, Cascade Connections\, Whatcom Humane Society\, Ferndale Resource Center\, and several food banks and community service organizations to make sure donations go right where they&rsquo\;re needed most.<br />\n<br />\n<u><strong>What to Bring</strong></u>: &bull\; Non-perishable food items &bull\; Pet food &amp\; pet care supplies &bull\; Diapers &amp\; baby wipes &bull\; Hats\, coats\, gloves &amp\; warm clothing &bull\; Toilet paper &amp\; toiletries &bull\; Feminine hygiene products &bull\; Household essentials &amp\; cleaning supplies Let&rsquo\;s fill the building with generosity and kindness. Every item makes a difference.
LOCATION:Ferndale Events Center
UID:e.2362.11212
SEQUENCE:3
DTSTAMP:20260419T205241Z
URL:https://business.ferndale-chamber.com/events/details/days-of-giving-donation-center-11212
END:VEVENT

END:VCALENDAR
