BEGIN:VCALENDAR
VERSION:2.0
PRODID:-//ChamberMaster//Event Calendar 2.0//EN
METHOD:PUBLISH
X-PUBLISHED-TTL:P3D
REFRESH-INTERVAL:P3D
CALSCALE:GREGORIAN
BEGIN:VEVENT
DTSTART:20171028T220000Z
DTEND:20171029T000000Z
X-MICROSOFT-CDO-ALLDAYEVENT:FALSE
SUMMARY:Downtown Trick or Treat
DESCRIPTION:Each year over 2000 children and their parents hit the streets of Downtown Ferndale in search of candy!\n\nOver 40 Chamber businesses participate and fun is had by all!
X-ALT-DESC;FMTTYPE=text/html:<p style="margin: 25px 0px\; color: rgb(119\, 119\, 119)\; font-family: Roboto\; font-size: 16px\; line-height: 26px\; background-color: rgb(243\, 243\, 243)\;">Each year over 2000 children and their parents hit the streets of Downtown Ferndale in search of candy!</p>\n\n<p style="margin: 25px 0px\; color: rgb(119\, 119\, 119)\; font-family: Roboto\; font-size: 16px\; line-height: 26px\; background-color: rgb(243\, 243\, 243)\;">Over 40 Chamber businesses participate and fun is had by all!</p>\n
LOCATION:Downtown Ferndale. Streets are shut down on Main Street between 1st and 3rd Ave for safety.
UID:e.2362.4910
SEQUENCE:3
DTSTAMP:20260425T152732Z
URL:https://business.ferndale-chamber.com/events/details/downtown-trick-or-treat-10-28-2017-4910
END:VEVENT

END:VCALENDAR
