BEGIN:VCALENDAR
VERSION:2.0
PRODID:-//ChamberMaster//Event Calendar 2.0//EN
METHOD:PUBLISH
X-PUBLISHED-TTL:P3D
REFRESH-INTERVAL:P3D
CALSCALE:GREGORIAN
BEGIN:VEVENT
DTSTART:20170415T170000Z
DTEND:20170416T220000Z
X-MICROSOFT-CDO-ALLDAYEVENT:FALSE
SUMMARY:Easter at the Farm
DESCRIPTION:Enjoy Easter on the Farm\, a whole weekend long Easter celebration for the entire family! Saturday April 15th and Sunday 16th from 10am-3pm at Bellewood Acres. Activities include a continuous easter egg hunt\, pictures with Mr. Ears\, apple bin train rides\, a petting zoo\, scavenger trail hunt and more! There will also be a delicious country brunch. $12 Egg Hunt Package (ages 1-10)\, $12 Kid's Brunch\, $27 Adult Brunch. Tickets available at bellewoodfarms.com
X-ALT-DESC;FMTTYPE=text/html:Enjoy Easter on the Farm\, a whole weekend long Easter celebration for the entire family! Saturday April 15th and Sunday 16th from 10am-3pm at Bellewood Acres. Activities include a continuous easter egg hunt\, pictures with Mr. Ears\, apple bin train rides\, a petting zoo\, scavenger trail hunt and more! There will also be a delicious country brunch. $12 Egg Hunt Package (ages 1-10)\, $12 Kid&rsquo\;s Brunch\, $27 Adult Brunch. Tickets available at bellewoodfarms.com
LOCATION:Bellewood Acres 6140 Guide Meridian Lynden Wa 98264
UID:e.2362.5835
SEQUENCE:3
DTSTAMP:20260426T005955Z
URL:https://business.ferndale-chamber.com/events/details/easter-at-the-farm-5835
END:VEVENT

END:VCALENDAR
