BEGIN:VCALENDAR
VERSION:2.0
PRODID:-//ChamberMaster//Event Calendar 2.0//EN
METHOD:PUBLISH
X-PUBLISHED-TTL:P3D
REFRESH-INTERVAL:P3D
CALSCALE:GREGORIAN
BEGIN:VEVENT
DTSTART:20260423T003000Z
DTEND:20260423T023000Z
X-MICROSOFT-CDO-ALLDAYEVENT:FALSE
SUMMARY:Eat Local First Business Mixer
DESCRIPTION:Business-to-Business mixer for those who produce\, make\, and/or buy local food in Northwest WA. Join us at BELLEWOOD FARMS for a FREE networking event bringing together farmers\, chefs\, fishers\, grocers\, food producers\, market managers\, and buyers from across the region. We'll gather to connect\, collaborate\, and strengthen our local food community in a welcoming\, informal setting. Enjoy facilitated networking\, savory and sweet pies from Bellewood Farms\, a seasonal salad\, and NA drinks. Alcoholic beverages will be available for purchase. Please register here if you plan to attend - https://givebutter.com/Eat-local-first-spring-mixer We hope to see you there!
X-ALT-DESC;FMTTYPE=text/html:Business-to-Business mixer for those who produce\, make\, and/or buy local food in Northwest WA. Join us at BELLEWOOD FARMS for a FREE networking event bringing together farmers\, chefs\, fishers\, grocers\, food producers\, market managers\, and buyers from across the region. We&rsquo\;ll gather to connect\, collaborate\, and strengthen our local food community in a welcoming\, informal setting. Enjoy facilitated networking\, savory and sweet pies from Bellewood Farms\, a seasonal salad\, and NA drinks. Alcoholic beverages will be available for purchase. Please register here if you plan to attend - https://givebutter.com/Eat-local-first-spring-mixer We hope to see you there!
LOCATION:Bellewood Farms 6140 Guide Meridian Rd\, Lynden
UID:e.2362.11286
SEQUENCE:3
DTSTAMP:20260423T012142Z
URL:https://business.ferndale-chamber.com/events/details/eat-local-first-business-mixer-11286
END:VEVENT

END:VCALENDAR
