BEGIN:VCALENDAR
VERSION:2.0
PRODID:-//ChamberMaster//Event Calendar 2.0//EN
METHOD:PUBLISH
X-PUBLISHED-TTL:P3D
REFRESH-INTERVAL:P3D
CALSCALE:GREGORIAN
BEGIN:VEVENT
DTSTART:20251205T003000Z
DTEND:20251205T030000Z
X-MICROSOFT-CDO-ALLDAYEVENT:FALSE
SUMMARY:Edward Jones - Celebrating 15 years in Ferndale
DESCRIPTION:Join Monisha Brandt and her team to celebrate 15 years in Ferndale!\n\n\n\nWe have a lot to be thankful for during this holiday season because of our friends\, neighbors\, and clients. In that spirit\, we invite you\, your family\, and friends to join us for our open house as we say thank you to our clients\, friends and community.\nHoliday Dessert Bar and refreshments will be provided. Please call 360-384-1942 to RSVP by 11/24/25.\n\nThursday December 4th from 4:30pm - 7pm. Celebratory Toast at 5:30pm\n\nFrom Monisha -\n\nI have been a financial advisor with Edward Jones for 15 years\, serving clients in Whatcom County for almost 20 years. In order to better serve my clients\, I earned the CFP  certification. To gain certification\, a financial advisor must pass the CFP  Certification Examination and the CFP Board's Fitness Standards for Candidates and Registrants\, agree to abide by the CFP Board's Code of Ethics and Professional Responsibility and comply with the Financial Planning Practice Standards.\n\nI focus on serving people who are considering retirement in the next five to ten years\, as well as current retirees who need guidance on how to improve their financial wellbeing. I utilize an established process that helps me understand what is most important to my clients and construct measurable objectives tailored to their circumstances. Once the strategies are implemented\, I partner with my clients throughout their lives\, informing them of any developments\, as well as addressing any needs or changes in their situations. In order to provide holistic advice\, I work closely with tax professionals and estate planning attorneys.
X-ALT-DESC;FMTTYPE=text/html:<div class="xdj266r x14z9mp xat24cr x1lziwak x1vvkbs x126k92a" style="white-space-collapse: preserve\; margin-inline: 0px\; overflow-wrap: break-word\; margin-bottom: 0px\; margin-top: 0px\; font-family: &quot\;Segoe UI Historic&quot\;\, &quot\;Segoe UI&quot\;\, Helvetica\, Arial\, sans-serif\; color: rgb(8\, 8\, 9)\; font-size: 15px\;">\n<div dir="auto" style="font-family: inherit\;">Join Monisha Brandt and her team to celebrate 15 years in Ferndale!</div>\n</div>\n\n<div class="x14z9mp xat24cr x1lziwak x1vvkbs xtlvy1s x126k92a" style="white-space-collapse: preserve\; margin-inline: 0px\; overflow-wrap: break-word\; margin-bottom: 0px\; margin-top: 0.5em\; font-family: &quot\;Segoe UI Historic&quot\;\, &quot\;Segoe UI&quot\;\, Helvetica\, Arial\, sans-serif\; color: rgb(8\, 8\, 9)\; font-size: 15px\;">\n<div dir="auto" style="font-family: inherit\;">We have a lot to be thankful for during this holiday season because of our friends\, neighbors\, and clients. In that spirit\, we invite you\, your family\, and friends to join us for our open house as we say thank you to our clients\, friends and community.\n<div dir="auto" style="color: rgb(8\, 8\, 9)\; font-family: inherit\; font-size: 15px\; white-space-collapse: preserve\;">Holiday Dessert Bar and refreshments will be provided. Please call 360-384-1942 to RSVP by 11/24/25.<br />\nThursday December 4th from 4:30pm - 7pm. Celebratory Toast at 5:30pm<br />\nFrom Monisha -<br />\n<span style="color: rgba(0\, 0\, 0\, 0.9)\; font-family: -apple-system\, system-ui\, BlinkMacSystemFont\, &quot\;Segoe UI&quot\;\, Roboto\, &quot\;Helvetica Neue&quot\;\, &quot\;Fira Sans&quot\;\, Ubuntu\, Oxygen\, &quot\;Oxygen Sans&quot\;\, Cantarell\, &quot\;Droid Sans&quot\;\, &quot\;Apple Color Emoji&quot\;\, &quot\;Segoe UI Emoji&quot\;\, &quot\;Segoe UI Emoji&quot\;\, &quot\;Segoe UI Symbol&quot\;\, &quot\;Lucida Grande&quot\;\, Helvetica\, Arial\, sans-serif\; font-size: 14px\;">I have been a financial advisor with Edward Jones for 15 years\, serving clients in Whatcom County for almost 20 years. In order to better serve my clients\, I earned the CFP&reg\; certification. To gain certification\, a financial advisor must pass the CFP&reg\; Certification Examination and the CFP Board&rsquo\;s Fitness Standards for Candidates and Registrants\, agree to abide by the CFP Board&rsquo\;s Code of Ethics and Professional Responsibility and comply with the Financial Planning Practice Standards.</span><br style="box-sizing: inherit\; font-family: -apple-system\, system-ui\, BlinkMacSystemFont\, &quot\;Segoe UI&quot\;\, Roboto\, &quot\;Helvetica Neue&quot\;\, &quot\;Fira Sans&quot\;\, Ubuntu\, Oxygen\, &quot\;Oxygen Sans&quot\;\, Cantarell\, &quot\;Droid Sans&quot\;\, &quot\;Apple Color Emoji&quot\;\, &quot\;Segoe UI Emoji&quot\;\, &quot\;Segoe UI Emoji&quot\;\, &quot\;Segoe UI Symbol&quot\;\, &quot\;Lucida Grande&quot\;\, Helvetica\, Arial\, sans-serif\; color: rgba(0\, 0\, 0\, 0.9)\; font-size: 14px\;" />\n<span style="color: rgba(0\, 0\, 0\, 0.9)\; font-family: -apple-system\, system-ui\, BlinkMacSystemFont\, &quot\;Segoe UI&quot\;\, Roboto\, &quot\;Helvetica Neue&quot\;\, &quot\;Fira Sans&quot\;\, Ubuntu\, Oxygen\, &quot\;Oxygen Sans&quot\;\, Cantarell\, &quot\;Droid Sans&quot\;\, &quot\;Apple Color Emoji&quot\;\, &quot\;Segoe UI Emoji&quot\;\, &quot\;Segoe UI Emoji&quot\;\, &quot\;Segoe UI Symbol&quot\;\, &quot\;Lucida Grande&quot\;\, Helvetica\, Arial\, sans-serif\; font-size: 14px\;">I focus on serving people who are considering retirement in the next five to ten years\, as well as current retirees who need guidance on how to improve their financial wellbeing. I utilize an established process that helps me understand what is most important to my clients and construct measurable objectives tailored to their circumstances. Once the strategies are implemented\, I partner with my clients throughout their lives\, informing them of any developments\, as well as addressing any needs or changes in their situations. In order to provide holistic advice\, I work closely with tax professionals and estate planning attorneys.</span></div>\n</div>\n</div>\n
LOCATION:
UID:e.2362.11218
SEQUENCE:3
DTSTAMP:20260419T205407Z
URL:https://business.ferndale-chamber.com/events/details/edward-jones-celebrating-15-years-in-ferndale-11218
END:VEVENT

END:VCALENDAR
