BEGIN:VCALENDAR
VERSION:2.0
PRODID:-//ChamberMaster//Event Calendar 2.0//EN
METHOD:PUBLISH
X-PUBLISHED-TTL:P3D
REFRESH-INTERVAL:P3D
CALSCALE:GREGORIAN
BEGIN:VEVENT
DTSTART:20260516T203000Z
DTEND:20260516T223000Z
X-MICROSOFT-CDO-ALLDAYEVENT:FALSE
SUMMARY:FAMILY FINANCIAL FUN DAY
DESCRIPTION:BECU is hosting a Family Financial Fun Day on Saturday May 16\, from 1:30p to 3:30p. Stop by anytime to learn about financial skills and financial literacy support!! There will be games\, prizes\, giveaways and new account incentives!!! Come visit us at 1066 Lakeway Drive\, right next to Menchies.
X-ALT-DESC;FMTTYPE=text/html:BECU is hosting a Family Financial Fun Day on Saturday May 16\, from 1:30p to 3:30p. Stop by anytime to learn about financial skills and financial literacy support!! There will be games\, prizes\, giveaways and new account incentives!!! Come visit us at 1066 Lakeway Drive\, right next to Menchies.
LOCATION:1066 Lakeway Drive Bellingham\, WA 98229
UID:e.2362.11299
SEQUENCE:3
DTSTAMP:20260424T052051Z
URL:https://business.ferndale-chamber.com/events/details/family-financial-fun-day-11299
END:VEVENT

END:VCALENDAR
