BEGIN:VCALENDAR
VERSION:2.0
PRODID:-//ChamberMaster//Event Calendar 2.0//EN
METHOD:PUBLISH
X-PUBLISHED-TTL:P3D
REFRESH-INTERVAL:P3D
CALSCALE:GREGORIAN
BEGIN:VEVENT
DTSTART:20170531T230000Z
DTEND:20170601T010000Z
X-MICROSOFT-CDO-ALLDAYEVENT:FALSE
SUMMARY:Farmers Insurance James Brady Agency Ribbon Cutting
DESCRIPTION:Join James in celebrating his grand opening! This event will include a community giveback\, as the Ferndale High School Drum Line will be present\, raising funds for the Band's fall competitions! *Be sure to bring a few bucks to help support those in need in our community* Ribbon cutting will be at 4:30pm. Business leaders and community members are all welcome!
X-ALT-DESC;FMTTYPE=text/html:Join James in celebrating his grand opening! This event will include a community giveback\, as the Ferndale High School Drum Line will be present\, raising funds for the Band&#39\;s fall competitions! *Be sure to bring a few bucks to help support those in need in our community* Ribbon cutting will be at 4:30pm. Business leaders and community members are all welcome!
LOCATION:2417 Main Street\, Ferndale
UID:e.2362.5844
SEQUENCE:3
DTSTAMP:20260425T232904Z
URL:https://business.ferndale-chamber.com/events/details/farmers-insurance-james-brady-agency-ribbon-cutting-5844
END:VEVENT

END:VCALENDAR
