BEGIN:VCALENDAR
VERSION:2.0
PRODID:-//ChamberMaster//Event Calendar 2.0//EN
METHOD:PUBLISH
X-PUBLISHED-TTL:P3D
REFRESH-INTERVAL:P3D
CALSCALE:GREGORIAN
BEGIN:VEVENT
DTSTART:20260114T200000Z
DTEND:20260114T210000Z
X-MICROSOFT-CDO-ALLDAYEVENT:FALSE
SUMMARY:Ferndale Chamber Board Meeting
DESCRIPTION:Ferndale Chamber Board Meeting open to Chamber members. Every second Wednesday of the month.
X-ALT-DESC;FMTTYPE=text/html:Ferndale Chamber Board Meeting open to Chamber members. Every second Wednesday of the month.&nbsp\;
LOCATION:
UID:e.2362.11172
SEQUENCE:3
DTSTAMP:20260419T192043Z
URL:https://business.ferndale-chamber.com/events/details/ferndale-chamber-board-meeting-01-10-2026-11172
END:VEVENT

END:VCALENDAR
