BEGIN:VCALENDAR
VERSION:2.0
PRODID:-//ChamberMaster//Event Calendar 2.0//EN
METHOD:PUBLISH
X-PUBLISHED-TTL:P3D
REFRESH-INTERVAL:P3D
CALSCALE:GREGORIAN
BEGIN:VEVENT
DTSTART:20171108T170000Z
DTEND:20171108T180000Z
X-MICROSOFT-CDO-ALLDAYEVENT:FALSE
SUMMARY:Ferndale Chamber Member Orientation
DESCRIPTION:By joining the Ferndale Chamber of Commerce\, you've taken your first step toward creating more opportunities for yourself and your business.\n\n\n\nNow it's time to make sure that you are utilizing all of the benefits associated with your membership!\n\n\n\nWe will be discussing: \n\n*Your customizable online web listing\n\n*Networking opportunities\n\n*Professional development\n\n*Human Resource tools\n\n*Scholarship opportunities\n\n*Sponsorship and advertising\n\n*& so much more!
X-ALT-DESC;FMTTYPE=text/html:<span style="color: rgb(51\, 51\, 51)\; font-family: sans-serif\, Arial\, Verdana\, &quot\;Trebuchet MS&quot\;\; font-size: 17px\;"><span style="color: rgb(255\, 140\, 0)\;"><em>By joining the&nbsp\;Ferndale&nbsp\;Chamber of Commerce\, you&#39\;ve taken your first step toward creating more opportunities for yourself and your business.</em></span><br />\n<br />\n<span style="color: rgb(0\, 0\, 255)\;"><em>Now it&#39\;s time to make sure that you are utilizing all of the benefits associated with your membership!</em></span></span><br style="color: rgb(51\, 51\, 51)\; font-family: sans-serif\, Arial\, Verdana\, &quot\;Trebuchet MS&quot\;\; font-size: 13px\;" />\n<br style="color: rgb(51\, 51\, 51)\; font-family: sans-serif\, Arial\, Verdana\, &quot\;Trebuchet MS&quot\;\; font-size: 13px\;" />\n<span style="color: rgb(51\, 51\, 51)\; font-family: sans-serif\, Arial\, Verdana\, &quot\;Trebuchet MS&quot\;\; font-size: 16px\;"><span style="color: rgb(0\, 0\, 205)\;"><strong>We will be discussing:&nbsp\;</strong></span><br />\n*Your customizable online web listing<br />\n*Networking opportunities<br />\n*Professional development<br />\n*Human Resource tools<br />\n*Scholarship opportunities<br />\n*Sponsorship and advertising<br />\n*&amp\; so much more!&nbsp\;</span>
LOCATION:Pioneer Pavilion\, 2007 Cherry St in Ferndale
UID:e.2362.5892
SEQUENCE:3
DTSTAMP:20260425T133337Z
URL:https://business.ferndale-chamber.com/events/details/ferndale-chamber-member-orientation-5892
END:VEVENT

END:VCALENDAR
