BEGIN:VCALENDAR
VERSION:2.0
PRODID:-//ChamberMaster//Event Calendar 2.0//EN
METHOD:PUBLISH
X-PUBLISHED-TTL:P3D
REFRESH-INTERVAL:P3D
CALSCALE:GREGORIAN
BEGIN:VEVENT
DTSTART:20170729T150000Z
DTEND:20170729T173000Z
X-MICROSOFT-CDO-ALLDAYEVENT:FALSE
SUMMARY:Ferndale Old Settlers L.E.F.T. 5k race & 2 mile walk
DESCRIPTION:This is a family-friendly event! The start and end of the race will be at Pioneer Park. There will be vendors\, refreshments\, raffle prizes\, 1st place prizes for men and women. Come join us for a day of great fun and family activities! Kick start your day with either a 5K run or a 2 mile walk. Registration will begin at 8:00a with the race starting at 9:00a. Register at http://www.active.com and search for "Ferndale". Direct any questions to Kim at kmartin@ferndalepd.org or 360-483-5746. Following the race/walk is the Grand Parade @ 11:00a.m.
X-ALT-DESC;FMTTYPE=text/html:This is a family-friendly event! The start and end of the race will be at Pioneer Park. There will be vendors\, refreshments\, raffle prizes\, 1st place prizes for men and women. Come join us for a day of great fun and family activities! Kick start your day with either a 5K run or a 2 mile walk. Registration will begin at 8:00a with the race starting at 9:00a. Register at http://www.active.com and search for &quot\;Ferndale&quot\;. Direct any questions to Kim at kmartin@ferndalepd.org or 360-483-5746. Following the race/walk is the Grand Parade @ 11:00a.m.
LOCATION:Pioneer Park 2004 Cherry St Ferndale
UID:e.2362.5864
SEQUENCE:3
DTSTAMP:20260425T200100Z
URL:https://business.ferndale-chamber.com/events/details/ferndale-old-settlers-l-e-f-t-5k-race-2-mile-walk-5864
END:VEVENT

END:VCALENDAR
