BEGIN:VCALENDAR
VERSION:2.0
PRODID:-//ChamberMaster//Event Calendar 2.0//EN
METHOD:PUBLISH
X-PUBLISHED-TTL:P3D
REFRESH-INTERVAL:P3D
CALSCALE:GREGORIAN
BEGIN:VEVENT
DTSTART:20170318T150000Z
DTEND:20170318T190000Z
X-MICROSOFT-CDO-ALLDAYEVENT:FALSE
SUMMARY:Ferndale Spring Run Off
DESCRIPTION:Choose to run or walk either a 5k or 10k and come dressed in bright spring colors or a fun spring costume! Pets are welcome (on lease please)!  Please plan for a slightly muddy run as we are traveling through Hovander Park trails.\n\n\n\nFor our competitive registrants\, there will be a 1st\, 2nd & 3rd place award for each race! \n\n\n\nEarly shirt pickup: March 17th from 9am-5pm at the Ferndale Chamber\, 2007 Cherry Street\n\n\n\nDonation: 10% of proceeds will benefit the Community Service Co-op!\n\n\n\nBy registering for this event\, you are agreeing to the following:\n\nI understand that walking and running in races are potentially hazardous activities. I should not enter and run or walk in the Ferndale Spring Run Off (the ?Event?) unless I am medically able. I agree to abide by any decision of an Event official relative to my ability to safely complete the Event. I assume every risk associated with participating in the Event including\, but not limited to\, falls\, contact with Event participants or volunteers or with vehicles\, the effects of the weather\, and course conditions. Having read this waiver and knowing these facts\, I\, THE UNDERSIGNED\, Parent/Guardian\, assume all risks and hazards incidental to participating in the activity and do hereby waive\, release\, absolve\, indemnify and agree to hold harmless the Ferndale Spring Run Off\, Ferndale Chamber of Commerce\, the City of Ferndale\, Whatcom County \, sponsors and organizers and their representatives\, businesses participating in this event\, and affiliates from all claims and/or liabilities of any kind arising out of my participation in the Event. I also grant permission to all the foregoing to use any photograph\, motion picture\, recordings\, or any other record of the Event for any legitimate purpose.
X-ALT-DESC;FMTTYPE=text/html:<div class="form-input-wide form-line" id="cid_4" style="clear: both\; padding: 12px 36px\; margin: 6px 0px\; display: block\; width: 690px\; position: relative\; box-sizing: border-box\;">\n<div class="form-html" id="text_4" style="padding: 3px\;">Choose to run or walk either a 5k or&nbsp\;10k and come dressed&nbsp\;in bright spring colors or a fun spring costume! Pets are welcome (on lease please)! &nbsp\;Please plan for a slightly muddy run as we are traveling through Hovander Park trails.<br />\n<br />\nFor our competitive registrants\, there will be a 1st\, 2nd &amp\; 3rd place award for each race!&nbsp\;<br />\n<br />\n<strong style="color: rgb(51\, 51\, 51)\; font-family: sans-serif\, Arial\, Verdana\, 'Trebuchet MS'\; font-size: 13px\; line-height: 20.8px\; background-color: rgb(255\, 255\, 255)\;">Early shirt pickup:</strong><span style="color: rgb(51\, 51\, 51)\; line-height: 20.8px\; background-color: rgb(255\, 255\, 255)\;">&nbsp\;March&nbsp\;</span>17th<span style="color: rgb(51\, 51\, 51)\; line-height: 20.8px\; background-color: rgb(255\, 255\, 255)\;">&nbsp\;from&nbsp\;</span>9am-5pm<span style="color: rgb(51\, 51\, 51)\; line-height: 20.8px\; background-color: rgb(255\, 255\, 255)\;">&nbsp\;at the&nbsp\;</span>Ferndale<span style="color: rgb(51\, 51\, 51)\; line-height: 20.8px\; background-color: rgb(255\, 255\, 255)\;">&nbsp\;Chamber\,&nbsp\;2007 Cherry Street</span><br />\n<br />\n<strong><span style="line-height: 20.8px\; background-color: rgb(255\, 255\, 255)\;">Donation:</span></strong><span style="color: rgb(51\, 51\, 51)\; line-height: 20.8px\; background-color: rgb(255\, 255\, 255)\;"> 10% of proceeds will benefit the Community Service Co-op!<br />\n<br />\n<span style="font-size:9px\;">By registering for this event\, you are agreeing to the following:</span></span><br />\n<span style="font-size:9px\;">I understand that walking and running in races are potentially hazardous activities. I should not enter and run or walk in the Ferndale Spring Run Off (the ?Event?) unless I am medically able. I agree to abide by any decision of an Event official relative to my ability to safely complete the Event. I assume every risk associated with participating in the Event including\, but not limited to\, falls\, contact with Event participants or volunteers or with vehicles\, the effects of the weather\, and course conditions. Having read this waiver and knowing these facts\, I\, THE UNDERSIGNED\, Parent/Guardian\, assume all risks and hazards incidental to participating in the activity and do hereby waive\, release\, absolve\, indemnify and agree to hold harmless the&nbsp\;Ferndale Spring Run Off\, Ferndale Chamber of Commerce\, the City of Ferndale\, Whatcom County \, sponsors and organizers and their representatives\, businesses participating in this event\, and affiliates from all claims and/or liabilities of any kind arising out of my participation in the Event. I also grant permission to all the foregoing to use any photograph\, motion picture\, recordings\, or any other record of the Event for any <span style="font-family:tahoma\;">legitimate purpose.&nbsp\;</span></span></div>\n</div>\n
LOCATION:Registration & Start Location: Ferndale Chamber of Commerce (Located in the Pioneer Pavilion building) 2007 Cherry Street\, Ferndale
UID:e.2362.4417
SEQUENCE:3
DTSTAMP:20260419T123451Z
URL:https://business.ferndale-chamber.com/events/details/ferndale-spring-run-off-03-18-2017-4417
END:VEVENT

END:VCALENDAR
