BEGIN:VCALENDAR
VERSION:2.0
PRODID:-//ChamberMaster//Event Calendar 2.0//EN
METHOD:PUBLISH
X-PUBLISHED-TTL:P3D
REFRESH-INTERVAL:P3D
CALSCALE:GREGORIAN
BEGIN:VEVENT
DTSTART;VALUE=DATE:20180824
DTEND;VALUE=DATE:20180826
TRANSP:TRANSPARENT
X-MICROSOFT-CDO-ALLDAYEVENT:TRUE
SUMMARY:Ferndale Street Festival
DESCRIPTION:Join us for the annual Ferndale Street Festival!\nThe Ferndale Street Festival is in its 16th year and we are proud to have claimed the title of 2011\, 2012 & 2015 "Ferndale's Best Community Event". Last year's festival attracted thousands of guests\, and this year will be no less spectacular! With live bands all weekend\, food trucks\, kids activities\, a car show & a beer garden\, the 2018 Street Festival is sure to keep you & your family entertained all weekend long.\n\nFor our 21+ guests\, there will be plenty of outdoor seating at local restaurants\, bars and our beer garden.\n\nAnd\, for families\, there is an entire kid's area to keep our younger guests entertained & the event is pet friendly!
X-ALT-DESC;FMTTYPE=text/html:Join us for the annual Ferndale Street Festival!\n<p style="box-sizing: border-box\; margin: 0.85em 0px\; padding: 0px\; border: 0px rgb(225\, 225\, 225)\; font-variant-numeric: inherit\; font-variant-east-asian: inherit\; font-stretch: inherit\; line-height: inherit\; font-family: Arial\, Helvetica\, Verdana\, sans-serif\; vertical-align: baseline\; color: rgb(102\, 102\, 102)\;">The Ferndale Street Festival is in its 16th year and we are proud to have claimed the title of 2011\, 2012 &amp\; 2015 &ldquo\;Ferndale&rsquo\;s Best Community Event&rdquo\;.&nbsp\;Last year&rsquo\;s festival attracted thousands of guests\, and this year will be no less spectacular! With live bands all weekend\, food trucks\, kids activities\, a car show &amp\; a beer garden\, the 2018&nbsp\;Street Festival is sure to keep you &amp\; your family entertained all weekend long.</p>\n\n<p style="box-sizing: border-box\; margin: 0.85em 0px\; padding: 0px\; border: 0px rgb(225\, 225\, 225)\; font-variant-numeric: inherit\; font-variant-east-asian: inherit\; font-stretch: inherit\; line-height: inherit\; font-family: Arial\, Helvetica\, Verdana\, sans-serif\; vertical-align: baseline\; color: rgb(102\, 102\, 102)\;">For our 21+ guests\, there will be plenty of outdoor seating at local restaurants\, bars and our beer garden.</p>\n\n<p style="box-sizing: border-box\; margin: 0.85em 0px\; padding: 0px\; border: 0px rgb(225\, 225\, 225)\; font-variant-numeric: inherit\; font-variant-east-asian: inherit\; font-stretch: inherit\; line-height: inherit\; font-family: Arial\, Helvetica\, Verdana\, sans-serif\; vertical-align: baseline\; color: rgb(102\, 102\, 102)\;">And\, for families\, there is an entire kid&rsquo\;s area to keep our younger guests entertained &amp\; the event is pet friendly!</p>\n
LOCATION:Downtown Ferndale
UID:e.2362.6526
SEQUENCE:3
DTSTAMP:20260424T230627Z
URL:https://business.ferndale-chamber.com/events/details/ferndale-street-festival-6526
END:VEVENT

END:VCALENDAR
