BEGIN:VCALENDAR
VERSION:2.0
PRODID:-//ChamberMaster//Event Calendar 2.0//EN
METHOD:PUBLISH
X-PUBLISHED-TTL:P3D
REFRESH-INTERVAL:P3D
CALSCALE:GREGORIAN
BEGIN:VEVENT
DTSTART:20230617T190000Z
DTEND:20230618T050000Z
X-MICROSOFT-CDO-ALLDAYEVENT:FALSE
SUMMARY:Ferndale Uncorked & Uncapped
DESCRIPTION:Sample local beers & ciders & Northwest wines. Music\, food and small silent auction. Fundraiser for the Ferndale Golden Eagle Booster Club and the Be the One program at Ferndale High School.
X-ALT-DESC;FMTTYPE=text/html:Sample local beers &amp\; ciders &amp\; Northwest wines. Music\, food and small silent auction. Fundraiser for the Ferndale Golden Eagle Booster Club and the Be the One program at Ferndale High School.
LOCATION:Pioneer Park
UID:e.2362.10730
SEQUENCE:3
DTSTAMP:20260421T072733Z
URL:https://business.ferndale-chamber.com/events/details/ferndale-uncorked-uncapped-06-17-2023-10730
END:VEVENT

END:VCALENDAR
