BEGIN:VCALENDAR
VERSION:2.0
PRODID:-//ChamberMaster//Event Calendar 2.0//EN
METHOD:PUBLISH
X-PUBLISHED-TTL:P3D
REFRESH-INTERVAL:P3D
CALSCALE:GREGORIAN
BEGIN:VEVENT
DTSTART:20260204T230000Z
DTEND:20260205T010000Z
X-MICROSOFT-CDO-ALLDAYEVENT:FALSE
SUMMARY:Financial Learning and Resiliency Through Empowerment (FLARE)
DESCRIPTION:Free In Person Financial Course! Want to learn more about money? How to make your dollar stretch? How to create a budget? Well this free course is for you! Come join us on Wednesdays at the WECU Education Center on 511 E. Holly Street\, Downtown Bellingham\, starting February 4th-March 25th from 3:00pm-5:00pm. Visit www.oppco.org/flare-registration/ to register. Hope to see you there!!!
X-ALT-DESC;FMTTYPE=text/html:Free In Person Financial Course! Want to learn more about money? How to make your dollar stretch? How to create a budget? Well this free course is for you! Come join us on Wednesdays at the WECU Education Center on 511 E. Holly Street\, Downtown Bellingham\, starting February 4th-March 25th from 3:00pm-5:00pm. Visit www.oppco.org/flare-registration/ to register. Hope to see you there!!!
LOCATION:WECU Education Center on 511 E. Holly Street\, Downtown Bellingham
UID:e.2362.11223
SEQUENCE:3
DTSTAMP:20260419T180007Z
URL:https://business.ferndale-chamber.com/events/details/financial-learning-and-resiliency-through-empowerment-flare-02-04-2026-11223
END:VEVENT

END:VCALENDAR
