BEGIN:VCALENDAR
VERSION:2.0
PRODID:-//ChamberMaster//Event Calendar 2.0//EN
METHOD:PUBLISH
X-PUBLISHED-TTL:P3D
REFRESH-INTERVAL:P3D
CALSCALE:GREGORIAN
BEGIN:VEVENT
DTSTART:20170422T200000Z
DTEND:20170422T230000Z
X-MICROSOFT-CDO-ALLDAYEVENT:FALSE
SUMMARY:Guitar Center Lessons Open House
DESCRIPTION:Guitar Center Lessons presents our April Open House on April 22 from 1-4pm! Meet our instructors\, take a free private lesson\, explore our studios\, and learn about our programs and events. Lessons are offered in guitar\, bass\, keyboard\, voice\, drums\, ukulele\, cello\, DJing\, & audio recording\, with additional skills training upon request in songwriting and performance. Lessons also available in Spanish - Clases de m sica disponible en Espa ol.
X-ALT-DESC;FMTTYPE=text/html:Guitar Center Lessons presents our April Open House on April 22 from 1-4pm! Meet our instructors\, take a free private lesson\, explore our studios\, and learn about our programs and events. Lessons are offered in guitar\, bass\, keyboard\, voice\, drums\, ukulele\, cello\, DJing\, &amp\; audio recording\, with additional skills training upon request in songwriting and performance. Lessons also available in Spanish - Clases de m&uacute\;sica disponible en Espa&ntilde\;ol.
LOCATION:Guitar Center Bellingham 3960 Meridian St. #101 Bellingham\, WA 98226
UID:e.2362.5834
SEQUENCE:3
DTSTAMP:20260426T011503Z
URL:https://business.ferndale-chamber.com/events/details/guitar-center-lessons-open-house-04-22-2017-5834
END:VEVENT

END:VCALENDAR
