BEGIN:VCALENDAR
VERSION:2.0
PRODID:-//ChamberMaster//Event Calendar 2.0//EN
METHOD:PUBLISH
X-PUBLISHED-TTL:P3D
REFRESH-INTERVAL:P3D
CALSCALE:GREGORIAN
BEGIN:VEVENT
DTSTART:20181028T000000Z
DTEND:20181028T020000Z
X-MICROSOFT-CDO-ALLDAYEVENT:FALSE
SUMMARY:Haunt the Park
DESCRIPTION:Join us at Historic Pioneer Villiage in Pioneer Park where several of the old historic buildings will be decorated for Halloween as we hand out candy to the littles ones.  The park will have recently re-opened with new ADA sidewalks so everyone can enjoy the festivities.   This event is hosted by the Ferndale Heritage Society and Ferndale Chamber of Commerce.
X-ALT-DESC;FMTTYPE=text/html:Join us at Historic Pioneer Villiage in Pioneer Park where several of the old historic buildings will be decorated for Halloween as we hand out candy to the littles ones.&nbsp\; The park will have recently re-opened with new ADA sidewalks so everyone can enjoy the festivities.&nbsp\; &nbsp\;This event is hosted by the Ferndale Heritage Society and Ferndale Chamber of Commerce.
LOCATION:Pionner Park 2004 Cherry St (two blocks off Main Street on 1st Ave.) Ferndale\, WA
UID:e.2362.10340
SEQUENCE:3
DTSTAMP:20260424T200506Z
URL:https://business.ferndale-chamber.com/events/details/haunt-the-park-10340
END:VEVENT

END:VCALENDAR
