BEGIN:VCALENDAR
VERSION:2.0
PRODID:-//ChamberMaster//Event Calendar 2.0//EN
METHOD:PUBLISH
X-PUBLISHED-TTL:P3D
REFRESH-INTERVAL:P3D
CALSCALE:GREGORIAN
BEGIN:VEVENT
DTSTART:20171202T010000Z
DTEND:20171202T020000Z
X-MICROSOFT-CDO-ALLDAYEVENT:FALSE
SUMMARY:Holiday Tree Lighting Ceremony Ferndale Chamber Event
DESCRIPTION:Come celebrate the Holiday season with your neighbors as we light the Community Holiday Tree at Centennial River Walk Park!  The Mayor will pull the switch and Santa & Mrs. Clause will be there to take photos and greet everyone!\n\nFree cookies and hot cocoa are provided.
X-ALT-DESC;FMTTYPE=text/html:Come celebrate the Holiday season with your neighbors as we light the Community Holiday Tree at Centennial River Walk Park!&nbsp\; The Mayor will pull the switch and Santa &amp\; Mrs. Clause will be there to take photos and greet everyone!<br />\nFree cookies and hot cocoa are provided.<br />\n&nbsp\;
LOCATION:Corner of Main Street & First Ave\, at Centennial River Walk Park Fountain area
UID:e.2362.73
SEQUENCE:3
DTSTAMP:20260425T121456Z
URL:https://business.ferndale-chamber.com/events/details/holiday-tree-lighting-ceremony-ferndale-chamber-event-73
END:VEVENT

END:VCALENDAR
