BEGIN:VCALENDAR
VERSION:2.0
PRODID:-//ChamberMaster//Event Calendar 2.0//EN
METHOD:PUBLISH
X-PUBLISHED-TTL:P3D
REFRESH-INTERVAL:P3D
CALSCALE:GREGORIAN
BEGIN:VEVENT
DTSTART:20260605T010000Z
DTEND:20260605T020000Z
X-MICROSOFT-CDO-ALLDAYEVENT:FALSE
SUMMARY:Home Buying Seminar
DESCRIPTION:Curious about the home-buying process? You might be closer to your dream home than you think! Join Whitney Tjoelker\, a senior mortgage loan officer at Peoples Bank\, for a fun and informative event about buying a home. We'll cover credit\, income\, down payment\, budget\, and pitfalls to avoid. Spanish speakers welcome! WCLS wishes to thank Peoples Bank for sponsoring the 2026 Summer Reading Program.
X-ALT-DESC;FMTTYPE=text/html:Curious about the home-buying process? You might be closer to your dream home than you think! Join Whitney Tjoelker\, a senior mortgage loan officer at Peoples Bank\, for a fun and informative event about buying a home. We&rsquo\;ll cover credit\, income\, down payment\, budget\, and pitfalls to avoid. Spanish speakers welcome! WCLS wishes to thank Peoples Bank for sponsoring the 2026 Summer Reading Program.
LOCATION:Ferndale Library\, 2125 Main St
UID:e.2362.11304
SEQUENCE:3
DTSTAMP:20260421T024846Z
URL:https://business.ferndale-chamber.com/events/details/home-buying-seminar-11304
END:VEVENT

END:VCALENDAR
