BEGIN:VCALENDAR
VERSION:2.0
PRODID:-//ChamberMaster//Event Calendar 2.0//EN
METHOD:PUBLISH
X-PUBLISHED-TTL:P3D
REFRESH-INTERVAL:P3D
CALSCALE:GREGORIAN
BEGIN:VEVENT
DTSTART:20260425T003000Z
DTEND:20260425T040000Z
X-MICROSOFT-CDO-ALLDAYEVENT:FALSE
SUMMARY:Inspire Higher Dreams Gala
DESCRIPTION:Please join The Boys & Girls Clubs of Whatcom County for our annual Inspire Higher Dreams Gala on April 24\, 2026. Enjoy a curated live and silent auction\, dinner\, decadent desserts\, and powerful moments that bring our mission to life. Tickets are on sale until April 10.
X-ALT-DESC;FMTTYPE=text/html:Please join The Boys &amp\; Girls Clubs of Whatcom County for our annual Inspire Higher Dreams Gala on April 24\, 2026. Enjoy a curated live and silent auction\, dinner\, decadent desserts\, and powerful moments that bring our mission to life. Tickets are on sale until April 10.
LOCATION:Hotel Bellwether (1 Bellwether Way\, Bellingham\, WA 98225)
UID:e.2362.11280
SEQUENCE:3
DTSTAMP:20260423T012017Z
URL:https://business.ferndale-chamber.com/events/details/inspire-higher-dreams-gala-11280
END:VEVENT

END:VCALENDAR
