BEGIN:VCALENDAR
VERSION:2.0
PRODID:-//ChamberMaster//Event Calendar 2.0//EN
METHOD:PUBLISH
X-PUBLISHED-TTL:P3D
REFRESH-INTERVAL:P3D
CALSCALE:GREGORIAN
BEGIN:VEVENT
DTSTART:20171013T230000Z
DTEND:20171014T030000Z
X-MICROSOFT-CDO-ALLDAYEVENT:FALSE
SUMMARY:Jade Consulting Grand Opening & Ribbon Cutting
DESCRIPTION:If you believe in the power of heartfelt business\, the Grand Opening of Jade Consulting is the event you don't want to miss. The vision of Jade Consulting is to see you align\, attract\, and flourish in your Sacred Work with the help of brand strategy and creative visioning. Calling on an astonishing array of collaborators   offering free chair massage\, hand-crafted cocktails\, and incredible door prizes   this event promises to be a true celebration of what it means to LIVE your Sacred Work in the world. Witness the heartfelt launch of this unique consultancy\, and leave inspired to level-up YOUR Sacred Work in the world.     OFFICIAL RIBBON CUTTING // 4:30 PM         KILLER DOOR PRIZES!         FREE + DELICIOUS FOOD         CRAFT COCKTAILS + BEER + WINE         FREE CHAIR MASSAGE         LIVE DJ + AFTER-PARTY         SIGNING BONUSES     Follow us on Insta + Facebook @jadeconsultingco + stay tuned for the launch of our NEW website! About Jade Long: Jade Consulting is a creative firm in Ferndale\, WA that believes in the power of your Sacred Work in the world. We specialize in brand strategy & creative visioning. We craft beautiful brands that align with your offering and strategic design that attracts more clients   so you can flourish in the life you love.
X-ALT-DESC;FMTTYPE=text/html:If you believe in the power of heartfelt business\, the Grand Opening of Jade Consulting is the event you don&rsquo\;t want to miss. The vision of Jade Consulting is to see you align\, attract\, and flourish in your Sacred Work with the help of brand strategy and creative visioning. Calling on an astonishing array of collaborators &ndash\; offering free chair massage\, hand-crafted cocktails\, and incredible door prizes &ndash\; this event promises to be a true celebration of what it means to LIVE your Sacred Work in the world. Witness the heartfelt launch of this unique consultancy\, and leave inspired to level-up YOUR Sacred Work in the world. &gt\;&gt\;&gt\; OFFICIAL RIBBON CUTTING // 4:30 PM &gt\;&gt\;&gt\; &gt\;&gt\;&gt\; KILLER DOOR PRIZES! &gt\;&gt\;&gt\; &gt\;&gt\;&gt\; FREE + DELICIOUS FOOD &gt\;&gt\;&gt\; &gt\;&gt\;&gt\; CRAFT COCKTAILS + BEER + WINE &gt\;&gt\;&gt\; &gt\;&gt\;&gt\; FREE CHAIR MASSAGE &gt\;&gt\;&gt\; &gt\;&gt\;&gt\; LIVE DJ + AFTER-PARTY &gt\;&gt\;&gt\; &gt\;&gt\;&gt\; SIGNING BONUSES &gt\;&gt\;&gt\; Follow us on Insta + Facebook @jadeconsultingco + stay tuned for the launch of our NEW website! About Jade Long: Jade Consulting is a creative firm in Ferndale\, WA that believes in the power of your Sacred Work in the world. We specialize in brand strategy &amp\; creative visioning. We craft beautiful brands that align with your offering and strategic design that attracts more clients &ndash\; so you can flourish in the life you love.
LOCATION:1920 Main St\, Ste 14A Inside the Carnation Oxford Building
UID:e.2362.6164
SEQUENCE:3
DTSTAMP:20260425T151630Z
URL:https://business.ferndale-chamber.com/events/details/jade-consulting-grand-opening-ribbon-cutting-6164
END:VEVENT

END:VCALENDAR
