BEGIN:VCALENDAR
VERSION:2.0
PRODID:-//ChamberMaster//Event Calendar 2.0//EN
METHOD:PUBLISH
X-PUBLISHED-TTL:P3D
REFRESH-INTERVAL:P3D
CALSCALE:GREGORIAN
BEGIN:VEVENT
DTSTART:20230525T023000Z
DTEND:20230525T043000Z
X-MICROSOFT-CDO-ALLDAYEVENT:FALSE
SUMMARY:Jami Templeton and Andy Langham - Piano and Vocal Jazz Duo
DESCRIPTION:Jami Templeton and Andy Langham will perform songs from Jami's critically acclaimed debut jazz album "The Shape of My Heart"\, which was produced and arranged by Andy. They will also offer some swinging selections from the Great American Songbook for a delightful and heartwarming evening of jazz.
X-ALT-DESC;FMTTYPE=text/html:Jami Templeton and Andy Langham will perform songs from Jami&rsquo\;s critically acclaimed debut jazz album &ldquo\;The Shape of My Heart&rdquo\;\, which was produced and arranged by Andy. They will also offer some swinging selections from the Great American Songbook for a delightful and heartwarming evening of jazz.
LOCATION:Jansen Art Center 321 Front Street Lynden\, WA 98264
UID:e.2362.10936
SEQUENCE:3
DTSTAMP:20260421T090948Z
URL:https://business.ferndale-chamber.com/events/details/jami-templeton-and-andy-langham-piano-and-vocal-jazz-duo-10936
END:VEVENT

END:VCALENDAR
