BEGIN:VCALENDAR
VERSION:2.0
PRODID:-//ChamberMaster//Event Calendar 2.0//EN
METHOD:PUBLISH
X-PUBLISHED-TTL:P3D
REFRESH-INTERVAL:P3D
CALSCALE:GREGORIAN
BEGIN:VEVENT
DTSTART:20170525T230000Z
DTEND:20170526T010000Z
X-MICROSOFT-CDO-ALLDAYEVENT:FALSE
SUMMARY:Kirk Dechert Farmers Insurance Agency Ribbon Cutting
DESCRIPTION:Come one\, come all for a ribbon cutting and ice cream social at Kirk Dechert Farmers Insurance Agency! This event is open to business leaders\, community members and their families. The more the merrier! Ribbon cutting will be held at 5pm.
X-ALT-DESC;FMTTYPE=text/html:Come one\, come all for a ribbon cutting and ice cream social at Kirk Dechert Farmers Insurance Agency! This event is open to business leaders\, community members and their families. The more the merrier! Ribbon cutting will be held at 5pm.
LOCATION:5678 2nd Ave\, Ferndale
UID:e.2362.5843
SEQUENCE:3
DTSTAMP:20260425T232752Z
URL:https://business.ferndale-chamber.com/events/details/kirk-dechert-farmers-insurance-agency-ribbon-cutting-5843
END:VEVENT

END:VCALENDAR
