BEGIN:VCALENDAR
VERSION:2.0
PRODID:-//ChamberMaster//Event Calendar 2.0//EN
METHOD:PUBLISH
X-PUBLISHED-TTL:P3D
REFRESH-INTERVAL:P3D
CALSCALE:GREGORIAN
BEGIN:VEVENT
DTSTART:20260502T023000Z
DTEND:20260503T000000Z
X-MICROSOFT-CDO-ALLDAYEVENT:FALSE
SUMMARY:Kulshan Chorus Presents: We Tell Each Other Stories
DESCRIPTION:The Kulshan Chorus presents "We Tell Each Other Stories" on Friday\, May 1 at 7:30 p.m. and Saturday\, May 2 at 3:00 p.m. at First Congregational Church\, 2401 Cornwall Ave. in Bellingham\, Washington. Directed by Dustin Willetts\, this unique and inspiring concert features the professional storytelling of Eva Abram (Rainwater Storytelling) and Harvest Moon (Quinault Basket Maker & Storyteller)\, interwoven with the music of the Kulshan Chorus. "Storytelling has been at the center of human society since we first learned to communicate\," says Willetts. "It is a fundamental tool for not only sharing information but for creating connections and fostering empathy. It is a true honor to bring our stories and songs to you this evening and to share with you the gifts of Eva Abram and Harvest Moon. These two talented word-weavers will inspire you with their tales\, while Kulshan Chorus offers a soundtrack that prepares your heart to receive something wonderful and new. Come and sit by the fire and hear a story. Put aside the noise of the outside world and let us once again fan the flames of wonder." General admission tickets are available for $25 at https://www.ticketstripe.com/we-tell-stories. An ASL interpreter will be present at the May 2 performance. For more information\, e-mail info@kulshanchorus.org or visit www.kulshanchorus.org.
X-ALT-DESC;FMTTYPE=text/html:The Kulshan Chorus presents &ldquo\;We Tell Each Other Stories&rdquo\; on Friday\, May 1 at 7:30 p.m. and Saturday\, May 2 at 3:00 p.m. at First Congregational Church\, 2401 Cornwall Ave. in Bellingham\, Washington. Directed by Dustin Willetts\, this unique and inspiring concert features the professional storytelling of Eva Abram (Rainwater Storytelling) and Harvest Moon (Quinault Basket Maker &amp\; Storyteller)\, interwoven with the music of the Kulshan Chorus. &ldquo\;Storytelling has been at the center of human society since we first learned to communicate\,&rdquo\; says Willetts. &ldquo\;It is a fundamental tool for not only sharing information but for creating connections and fostering empathy. It is a true honor to bring our stories and songs to you this evening and to share with you the gifts of Eva Abram and Harvest Moon. These two talented word-weavers will inspire you with their tales\, while Kulshan Chorus offers a soundtrack that prepares your heart to receive something wonderful and new. Come and sit by the fire and hear a story. Put aside the noise of the outside world and let us once again fan the flames of wonder.&rdquo\; General admission tickets are available for $25 at https://www.ticketstripe.com/we-tell-stories. An ASL interpreter will be present at the May 2 performance. For more information\, e-mail info@kulshanchorus.org or visit www.kulshanchorus.org.
LOCATION:First Congregational Church 2401 Cornwall Ave Bellingham\, WA 98225
UID:e.2362.11287
SEQUENCE:3
DTSTAMP:20260423T012346Z
URL:https://business.ferndale-chamber.com/events/details/kulshan-chorus-presents-we-tell-each-other-stories-11287
END:VEVENT

END:VCALENDAR
