BEGIN:VCALENDAR
VERSION:2.0
PRODID:-//ChamberMaster//Event Calendar 2.0//EN
METHOD:PUBLISH
X-PUBLISHED-TTL:P3D
REFRESH-INTERVAL:P3D
CALSCALE:GREGORIAN
BEGIN:VEVENT
DTSTART:20170602T220000Z
DTEND:20170603T000000Z
X-MICROSOFT-CDO-ALLDAYEVENT:FALSE
SUMMARY:Leader Block Wine Company Grand Opening & Ribbon Cutting
DESCRIPTION:Take a self-guided tour of the Leader Block building and the businesses that call the building home.  Collect a stamp from each\n\nlocation and be entered into a raffle for great prizes!\n\nPlus\, don't miss the 'LeaderBlock Party' which begins at 5pm!\n\n*This event is 21+*
X-ALT-DESC;FMTTYPE=text/html:<span style="font-size:14px\;"><span style="font-family:calibri\;">Take a self-guided tour of the Leader Block building and the businesses that call the building home.&nbsp\; Collect a stamp from each<br />\nlocation and be entered into a raffle for great prizes!</span><br />\n<span style="font-family:calibri\;">Plus\, don&rsquo\;t miss the &lsquo\;LeaderBlock Party&rsquo\; which begins at 5pm!</span></span><br />\n*This event is 21+*
LOCATION:2417 main St\, Ste 103
UID:e.2362.5852
SEQUENCE:3
DTSTAMP:20260425T214401Z
URL:https://business.ferndale-chamber.com/events/details/leader-block-wine-company-grand-opening-ribbon-cutting-5852
END:VEVENT

END:VCALENDAR
