BEGIN:VCALENDAR
VERSION:2.0
PRODID:-//ChamberMaster//Event Calendar 2.0//EN
METHOD:PUBLISH
X-PUBLISHED-TTL:P3D
REFRESH-INTERVAL:P3D
CALSCALE:GREGORIAN
BEGIN:VEVENT
DTSTART:20251213T010000Z
DTEND:20251214T040000Z
X-MICROSOFT-CDO-ALLDAYEVENT:FALSE
SUMMARY:Lighted Christmas Stroll Through Pioneer Village
DESCRIPTION:This free event is a "giving back to our community" labor of love. The second and third weekends in December at Pioneer Village. Come stroll around the ADA stamped sidewalk\, enjoy the festive music and try your luck locating specific candy canes for a prize.
X-ALT-DESC;FMTTYPE=text/html:This free event is a &ldquo\;giving back to our community&rdquo\; labor of love. The second and third weekends in December at Pioneer Village. Come stroll around the ADA stamped sidewalk\, enjoy the festive music and try your luck locating specific candy canes for a prize.
LOCATION:Pioneer Village Ferndale
UID:e.2362.11214
SEQUENCE:3
DTSTAMP:20260419T205154Z
URL:https://business.ferndale-chamber.com/events/details/lighted-christmas-stroll-through-pioneer-village-11214
END:VEVENT

END:VCALENDAR
