BEGIN:VCALENDAR
VERSION:2.0
PRODID:-//ChamberMaster//Event Calendar 2.0//EN
METHOD:PUBLISH
X-PUBLISHED-TTL:P3D
REFRESH-INTERVAL:P3D
CALSCALE:GREGORIAN
BEGIN:VEVENT
DTSTART:20170425T190000Z
DTEND:20170425T210000Z
X-MICROSOFT-CDO-ALLDAYEVENT:FALSE
SUMMARY:Member Orientation
DESCRIPTION:Member orientation is open to both new & existing members. Orientations help members understand the benefits & resources available to members & how to best utilize them.
X-ALT-DESC;FMTTYPE=text/html:<span style="color: rgb(51\, 51\, 51)\; font-family: sans-serif\, Arial\, Verdana\, &quot\;Trebuchet MS&quot\;\; font-size: 13px\; background-color: rgb(255\, 255\, 255)\;">Member orientation is open to both new &amp\; existing members. Orientations help members understand the benefits &amp\; resources available to members &amp\; how to best utilize them.&nbsp\;</span>
LOCATION:Pioneer Pavilion\, 2007 Cherry St\, Ferndale WA 98248
UID:e.2362.5531
SEQUENCE:3
DTSTAMP:20260426T005726Z
URL:https://business.ferndale-chamber.com/events/details/member-orientation-5531
END:VEVENT

END:VCALENDAR
