BEGIN:VCALENDAR
VERSION:2.0
PRODID:-//ChamberMaster//Event Calendar 2.0//EN
METHOD:PUBLISH
X-PUBLISHED-TTL:P3D
REFRESH-INTERVAL:P3D
CALSCALE:GREGORIAN
BEGIN:VEVENT
DTSTART:20260327T003000Z
DTEND:20260327T020000Z
X-MICROSOFT-CDO-ALLDAYEVENT:FALSE
SUMMARY:Neighbor Night - Cascade Connections
DESCRIPTION:We'll be honoring our latest Employer of Excellence\, Fred Meyer. We'll be celebrating the amazing businesses we partner with and inviting new businesses to learn more about how supported employment can make a difference in their workplace and our community.
X-ALT-DESC;FMTTYPE=text/html:We&rsquo\;ll be honoring our latest Employer of Excellence\, Fred Meyer. We&rsquo\;ll be celebrating the amazing businesses we partner with and inviting new businesses to learn more about how supported employment can make a difference in their workplace and our community.&nbsp\;
LOCATION:Larrabee Lager Company 4151 Guide Meridian Rd\, #100 Bellingham\, WA 98226
UID:e.2362.11272
SEQUENCE:3
DTSTAMP:20260419T150957Z
URL:https://business.ferndale-chamber.com/events/details/neighbor-night-cascade-connections-11272
END:VEVENT

END:VCALENDAR
