BEGIN:VCALENDAR
VERSION:2.0
PRODID:-//ChamberMaster//Event Calendar 2.0//EN
METHOD:PUBLISH
X-PUBLISHED-TTL:P3D
REFRESH-INTERVAL:P3D
CALSCALE:GREGORIAN
BEGIN:VEVENT
DTSTART:20251206T000000Z
DTEND:20251207T050000Z
X-MICROSOFT-CDO-ALLDAYEVENT:FALSE
SUMMARY:Olde Fashioned Christmas
DESCRIPTION:Olde Fashioned Christmas is open Fri.\, Dec. 5th from 4pm to 9 p.m.\, and Sat.\, Dec.6th from 4pm to 9 p.m. Tickets are $6 for adults and $3 for children. Pioneer Park is located at 2000 Cherry Street in Ferndale. For more information\, please call (360) 384-6461 or visit www.ferndaleheritagesociety.com.
X-ALT-DESC;FMTTYPE=text/html:Olde Fashioned Christmas is open Fri.\, Dec. 5th from 4pm to 9 p.m.\, and Sat.\, Dec.6th from 4pm to 9 p.m. Tickets are $6 for adults and $3 for children. Pioneer Park is located at 2000 Cherry Street in Ferndale. For more information\, please call (360) 384-6461 or visit www.ferndaleheritagesociety.com.&nbsp\;
LOCATION:Pioneer Park is located at 2000 Cherry Street in Ferndale.
UID:e.2362.11213
SEQUENCE:3
DTSTAMP:20260419T205009Z
URL:https://business.ferndale-chamber.com/events/details/olde-fashioned-christmas-12-05-2025-11213
END:VEVENT

END:VCALENDAR
