BEGIN:VCALENDAR
VERSION:2.0
PRODID:-//ChamberMaster//Event Calendar 2.0//EN
METHOD:PUBLISH
X-PUBLISHED-TTL:P3D
REFRESH-INTERVAL:P3D
CALSCALE:GREGORIAN
BEGIN:VEVENT
DTSTART:20170801T190000Z
DTEND:20170801T200000Z
X-MICROSOFT-CDO-ALLDAYEVENT:FALSE
SUMMARY:Picnic at the Pavilion Membership Drive
DESCRIPTION:Calling all current Ferndale Chamber members and those considering joining the Ferndale Chamber! \n\n\n\nYou're invited to a complimentary picnic!  If you are a current member\, all you have to do in order to attend is bring a potential member who has not been a member for the last two years.  *Please RSVP both yourself and your guest when you RSVP.\n\n\n\nIf you are a prospective member\, all you have to do is RSVP!\n\n\n\nPerks for current members who bring a guest and sign on bonus's for those who sign up as a member at the event!\n\n\n\nYou must have an RSVP in order to attend this event--don't miss it!
X-ALT-DESC;FMTTYPE=text/html:Calling all current Ferndale Chamber members and those considering joining the Ferndale Chamber!&nbsp\;<br />\n<br />\nYou&#39\;re invited to a complimentary picnic! <strong>&nbsp\;If you are a current member\, all you have to do in order to attend is bring a potential member who has not been a member for the last two years. </strong>&nbsp\;*Please RSVP both yourself and your guest when you RSVP.<br />\n<br />\nIf you are a prospective member\, all you have to do is RSVP!<br />\n<br />\nPerks for current members who bring a guest and sign on bonus&#39\;s for those who sign up as a member at the event!<br />\n<br />\nYou must have an RSVP in order to attend this event--don&#39\;t miss it!
LOCATION:Pioneer Pavilion/Chamber offices\, 2007 Cherry St in Ferndale
UID:e.2362.5871
SEQUENCE:3
DTSTAMP:20260425T183647Z
URL:https://business.ferndale-chamber.com/events/details/picnic-at-the-pavilion-membership-drive-5871
END:VEVENT

END:VCALENDAR
