BEGIN:VCALENDAR
VERSION:2.0
PRODID:-//ChamberMaster//Event Calendar 2.0//EN
METHOD:PUBLISH
X-PUBLISHED-TTL:P3D
REFRESH-INTERVAL:P3D
CALSCALE:GREGORIAN
BEGIN:VEVENT
DTSTART:20171125T170000Z
DTEND:20171126T000000Z
X-MICROSOFT-CDO-ALLDAYEVENT:FALSE
SUMMARY:Pioneer Meadows Montessori Holiday Craft Market
DESCRIPTION:Pioneer Meadows Montessori School invites you to join us for our annual Holiday Craft Market November 25th\, 2016 from 9am-4pm. Location of the Market will be at the school\, 2377 Douglas Road in Ferndale. Our fun-filled event offers over 25 amazingly creative local artists selling top quality handmade crafts for all ages including clothing\, jewelry\, knitting\, face painting\, woodworking\, baked goods\, live music performances and more! Be sure to support Small Business Saturday\, the weekend after Thanksgiving\, by attending this event and find all your wonderfully unique holiday gifts in one convenient location. This market also serves as a fundraising benefit\, and 15% of proceeds will be donated to Pioneer Meadows Montessori School tuition assistance program. Through the offering of this program our school hopes to open educational opportunities to as many children as possible. For more information and a peek at what our vendors have to offer please see our event page at: www.facebook.com/groups/montessoricraftmarket/
X-ALT-DESC;FMTTYPE=text/html:Pioneer Meadows Montessori School invites you to join us for our annual Holiday Craft Market November 25th\, 2016 from 9am-4pm. Location of the Market will be at the school\, 2377 Douglas Road in Ferndale. Our fun-filled event offers over 25 amazingly creative local artists selling top quality handmade crafts for all ages including clothing\, jewelry\, knitting\, face painting\, woodworking\, baked goods\, live music performances and more! Be sure to support Small Business Saturday\, the weekend after Thanksgiving\, by attending this event and find all your wonderfully unique holiday gifts in one convenient location. This market also serves as a fundraising benefit\, and 15% of proceeds will be donated to Pioneer Meadows Montessori School tuition assistance program. Through the offering of this program our school hopes to open educational opportunities to as many children as possible. For more information and a peek at what our vendors have to offer please see our event page at: www.facebook.com/groups/montessoricraftmarket/
LOCATION:2377 Douglas Rd Ferndale\, Wa 98248
UID:e.2362.6435
SEQUENCE:3
DTSTAMP:20260425T133818Z
URL:https://business.ferndale-chamber.com/events/details/pioneer-meadows-montessori-holiday-craft-market-6435
END:VEVENT

END:VCALENDAR
