BEGIN:VCALENDAR
VERSION:2.0
PRODID:-//ChamberMaster//Event Calendar 2.0//EN
METHOD:PUBLISH
X-PUBLISHED-TTL:P3D
REFRESH-INTERVAL:P3D
CALSCALE:GREGORIAN
BEGIN:VEVENT
DTSTART:20230511T190000Z
DTEND:20230511T200000Z
X-MICROSOFT-CDO-ALLDAYEVENT:FALSE
SUMMARY:Power Hour with Erik McFrazier on Assessing and Minimizing Risk
DESCRIPTION:Registration for this event is required. If ordering a lunch\, please register by Monday\, May 8\, 2023. \n\n\n\nMay's Power Hour will be Assessing and Minimizing Risk with Erik McFrazier\, CEO and Founder of Pacific IT Support. \n\n\n\nAs business owners\, we assume a certain amount of risk\, and that risk can fluctuate significantly based on the type of work you do. But no matter what industry you work in\, you have to know how to assess and understand what is your amount of risk to be able to minimize it. Erik specializes in providing valuable information you can easily understand and put to use right away.\n\nDuring this session\, you will learn\n\n	What types of risk you should be aware of to protect your data\n	What business practices affect your level of risk\n	How to assess where you may have risk\n	How to reduce your risk as much as possible\n\n\n\nErik McFrazier has been in the IT industry for over 24 years. He is currently\, the CEO and Founder of Pacific IT Support\, a Managed IT Services provider.\n\n\n\nErik originally earned his degree in digital audio\, but quickly found an interest in computers and networks quickly jumping to his first computer certification and on to his first helpdesk support role. He was moving up the corporate ladder until the crash of 2008\, which ultimately forced him to move back into entrepreneurship\, opening a computer repair shop\, which ultimately led to the Managed IT Services model he manages today.\n\n\n\nHe likes technology but has really grown to love the aspects of owning his own business. He also believes in giving his best and hopes to help others achieve their goals through mentoring\, consulting\, and sharing what he has learned over the years.\n\n\n\nRegistration for this event is required. If ordering a lunch\, please register by Monday\, May 8\, 2023.
X-ALT-DESC;FMTTYPE=text/html:<strong style="font-size: 14px\;">Registration for this event is required. If ordering a lunch\, please register by Monday\, May 8\, 2023.&nbsp\;</strong><br />\n<br />\nMay&#39\;s Power Hour will be&nbsp\;<em>Assessing and Minimizing Risk&nbsp\;</em>with Erik McFrazier\, CEO and Founder of Pacific IT Support.&nbsp\;<br />\n<br />\nAs business owners\, we assume a certain amount of risk\, and that risk can fluctuate significantly based on the type of work you do. But no matter what industry you work in\, you have to know how to assess and understand what is your amount of risk to be able to minimize it. Erik specializes in providing valuable information you can easily understand and put to use right away.<br />\nDuring this session\, you will learn\n<ul>\n	<li style="margin-left:0in\;">What types of risk you should be aware of to protect your data</li>\n	<li style="margin-left:0in\;">What business practices affect your level of risk</li>\n	<li style="margin-left:0in\;">How to assess where you may have risk</li>\n	<li style="margin-left:0in\;">How to reduce your risk as much as possible</li>\n</ul>\n<br />\nErik McFrazier has been in the IT industry for over 24 years. He is currently\, the CEO and Founder of Pacific IT Support\, a Managed IT Services provider.<br />\n<br />\nErik originally earned his degree in digital audio\, but quickly found an interest in computers and networks quickly jumping to his first computer certification and on to his first helpdesk support role. He was moving up the corporate ladder until the crash of 2008\, which ultimately forced him to move back into entrepreneurship\, opening a computer repair shop\, which ultimately led to the Managed IT Services model he manages today.<br />\n<br />\nHe likes technology but has really grown to love the aspects of owning his own business. He also believes in giving his best and hopes to help others achieve their goals through mentoring\, consulting\, and sharing what he has learned over the years.<br />\n<br />\n<span style="font-size:14px\;"><strong>Registration for this event is required. If ordering a lunch\, please register by Monday\, May 8\, 2023.&nbsp\;</strong></span><br />\n&nbsp\;
LOCATION:Pioneer Pavilion Community Center 2007 Cherry St. Ferndale\, WA 98248
UID:e.2362.10928
SEQUENCE:3
DTSTAMP:20260421T090147Z
URL:https://business.ferndale-chamber.com/events/details/power-hour-with-erik-mcfrazier-on-assessing-and-minimizing-risk-10928
END:VEVENT

END:VCALENDAR
