BEGIN:VCALENDAR
VERSION:2.0
PRODID:-//ChamberMaster//Event Calendar 2.0//EN
METHOD:PUBLISH
X-PUBLISHED-TTL:P3D
REFRESH-INTERVAL:P3D
CALSCALE:GREGORIAN
BEGIN:VEVENT
DTSTART:20260304T170000Z
DTEND:20260305T010000Z
X-MICROSOFT-CDO-ALLDAYEVENT:FALSE
SUMMARY:Professional Mediation Training
DESCRIPTION:Professional Mediation Training Dates: March 4 - 6 and 11 - 13 Location: In Person at the WDRC Fees: $795 *Scholarships and payment plans available (see website for details) This intensive 40-hour course is designed for those interested in developing mediation and conflict resolution skills. Participants will learn the eight-stage mediation model\, conflict theory and styles\, mediator communication skills\, and principles of conflict resolution.
X-ALT-DESC;FMTTYPE=text/html:Professional Mediation Training Dates: March 4 - 6 and 11 - 13 Location: In Person at the WDRC Fees: $795 *Scholarships and payment plans available (see website for details) This intensive 40-hour course is designed for those interested in developing mediation and conflict resolution skills. Participants will learn the eight-stage mediation model\, conflict theory and styles\, mediator communication skills\, and principles of conflict resolution.
LOCATION:Location: In Person at the WDRC
UID:e.2362.11229
SEQUENCE:3
DTSTAMP:20260419T150935Z
URL:https://business.ferndale-chamber.com/events/details/professional-mediation-training-11229
END:VEVENT

END:VCALENDAR
