BEGIN:VCALENDAR
VERSION:2.0
PRODID:-//ChamberMaster//Event Calendar 2.0//EN
METHOD:PUBLISH
X-PUBLISHED-TTL:P3D
REFRESH-INTERVAL:P3D
CALSCALE:GREGORIAN
BEGIN:VEVENT
DTSTART:20251213T020000Z
DTEND:20251215T030000Z
X-MICROSOFT-CDO-ALLDAYEVENT:FALSE
SUMMARY:Santa's Food Drive Pickup
DESCRIPTION:The Ferndale Firefighters are teaming up with Santa to collect donation for the Ferndale Food Bank. They will be collecting non-perishable food items and monetary donations throughout Ferndale Neighborhoods. \n\n\n\nFriday Santa begins at 6pm. \n\nSaturday and Sunday Santa begins at 4pm\n\n. \n\nWatch and listen for Santa in your neighborhood. Go to Whatcom Seven Firefighters' Facebook page to track Santa and his helpers as they visit the neighborhoods with their friendly helper the Grinch and Max the rain-dog.
X-ALT-DESC;FMTTYPE=text/html:The Ferndale Firefighters are teaming up with Santa to collect donation for the Ferndale Food Bank. They will be collecting non-perishable food items and monetary donations throughout Ferndale Neighborhoods.&nbsp\;<br />\n<br />\nFriday Santa begins at 6pm.&nbsp\;<br />\nSaturday and Sunday Santa begins at 4pm<br />\n.&nbsp\;<br />\nWatch and listen for Santa in your neighborhood. Go to Whatcom Seven Firefighters&#39\; Facebook page to track Santa and his helpers as they visit the neighborhoods with their friendly helper the Grinch and Max the rain-dog.&nbsp\;
LOCATION:Ferndale Neighborhoods. Firefighters and Santa will be collecting donations throughout Ferndale.
UID:e.2362.11217
SEQUENCE:3
DTSTAMP:20260419T205242Z
URL:https://business.ferndale-chamber.com/events/details/santa-s-food-drive-pickup-11217
END:VEVENT

END:VCALENDAR
