BEGIN:VCALENDAR
VERSION:2.0
PRODID:-//ChamberMaster//Event Calendar 2.0//EN
METHOD:PUBLISH
X-PUBLISHED-TTL:P3D
REFRESH-INTERVAL:P3D
CALSCALE:GREGORIAN
BEGIN:VEVENT
DTSTART:20171117T000000Z
DTEND:20171117T010000Z
X-MICROSOFT-CDO-ALLDAYEVENT:FALSE
SUMMARY:Signs By Tomorrow Grand Opening & Ribbon Cutting
DESCRIPTION:Join us in celebrating Signs By Tomorrow's move to a new\, larger location!
X-ALT-DESC;FMTTYPE=text/html:Join us in celebrating Signs By Tomorrow&#39\;s move to a new\, larger location!
LOCATION:420 Ohio St\, Bellingham
UID:e.2362.6452
SEQUENCE:3
DTSTAMP:20260425T133519Z
URL:https://business.ferndale-chamber.com/events/details/signs-by-tomorrow-grand-opening-ribbon-cutting-6452
END:VEVENT

END:VCALENDAR
