BEGIN:VCALENDAR
VERSION:2.0
PRODID:-//ChamberMaster//Event Calendar 2.0//EN
METHOD:PUBLISH
X-PUBLISHED-TTL:P3D
REFRESH-INTERVAL:P3D
CALSCALE:GREGORIAN
BEGIN:VEVENT
DTSTART:20170908T230000Z
DTEND:20170909T000000Z
X-MICROSOFT-CDO-ALLDAYEVENT:FALSE
SUMMARY:Sky High Pot Shop Open House & Ribbon Cutting
DESCRIPTION:Join us in welcoming Sky High Pot Shop to Ferndale!
X-ALT-DESC;FMTTYPE=text/html:Join us in welcoming Sky High Pot Shop to Ferndale!
LOCATION:6167 Portal Way\, Ferndale
UID:e.2362.5888
SEQUENCE:3
DTSTAMP:20260425T171020Z
URL:https://business.ferndale-chamber.com/events/details/sky-high-pot-shop-open-house-ribbon-cutting-5888
END:VEVENT

END:VCALENDAR
