BEGIN:VCALENDAR
VERSION:2.0
PRODID:-//ChamberMaster//Event Calendar 2.0//EN
METHOD:PUBLISH
X-PUBLISHED-TTL:P3D
REFRESH-INTERVAL:P3D
CALSCALE:GREGORIAN
BEGIN:VEVENT
DTSTART:20210303T200000Z
DTEND:20210303T210000Z
X-MICROSOFT-CDO-ALLDAYEVENT:FALSE
SUMMARY:Speaker Series: Hart Hodges & James McCafferty
DESCRIPTION:Join the Chamber for our 2021 First Quarter Program Offerings! \n\n\n\nThe first week of the month\, from January to March\, we will offer the opportunity to hear from a different speaker in our community give an update in their field.
X-ALT-DESC;FMTTYPE=text/html:Join the Chamber for our 2021 First Quarter Program Offerings!&nbsp\;<br />\n<br />\nThe first week of the month\, from January to March\, we will offer the opportunity to hear from a different speaker in our community give an update in their field.&nbsp\;<br />\n&nbsp\;
LOCATION:Zoom
UID:e.2362.10562
SEQUENCE:3
DTSTAMP:20260423T013138Z
URL:https://business.ferndale-chamber.com/events/details/speaker-series-hart-hodges-james-mccafferty-10562
END:VEVENT

END:VCALENDAR
