BEGIN:VCALENDAR
VERSION:2.0
PRODID:-//ChamberMaster//Event Calendar 2.0//EN
METHOD:PUBLISH
X-PUBLISHED-TTL:P3D
REFRESH-INTERVAL:P3D
CALSCALE:GREGORIAN
BEGIN:VEVENT
DTSTART:20170823T020000Z
DTEND:20170823T033000Z
X-MICROSOFT-CDO-ALLDAYEVENT:FALSE
SUMMARY:Whatcom County Council & Port of B'ham Political Forum
DESCRIPTION:Join the Ferndale Chamber of Commerce for an panel debate with those running for the Whatcom County Council and the Port of Bellingham.  Being an informed voter is important in today's political climate so come and listen to the candidates up for election this November and make an informed decision.
X-ALT-DESC;FMTTYPE=text/html:Join the Ferndale Chamber of Commerce for an panel debate with those running for the Whatcom County Council and the Port of Bellingham. &nbsp\;Being an informed voter is important in today&#39\;s political climate so come and listen to the candidates up for election this November and make an informed decision.
LOCATION:Pioneer Pavilion Community Event Center 2007 Cherry Street Ferndale\, WA 98248 (Next to the Boy's & Girl's Club at the corner of 1st and Cherry)
UID:e.2362.5895
SEQUENCE:3
DTSTAMP:20260425T183933Z
URL:https://business.ferndale-chamber.com/events/details/whatcom-county-council-port-of-b-ham-political-forum-5895
END:VEVENT

END:VCALENDAR
