BEGIN:VCALENDAR
VERSION:2.0
PRODID:-//ChamberMaster//Event Calendar 2.0//EN
METHOD:PUBLISH
X-PUBLISHED-TTL:P3D
REFRESH-INTERVAL:P3D
CALSCALE:GREGORIAN
BEGIN:VEVENT
DTSTART:20170606T230000Z
DTEND:20170607T010000Z
X-MICROSOFT-CDO-ALLDAYEVENT:FALSE
SUMMARY:Ye Old Barber Shop Open House & Ribbon Cutting
DESCRIPTION:Join us in welcoming Ye Old Barber Shop to Ferndale!\n\nYou may have already stopped in to get your hairs snipped\, but don't miss the official snip of the ribbon at 4:30pm!\n\n\n\nPlus\, event features a raffle with 100% of proceeds raised going toward WeSNIP\, a local non-profit that provides spay and neuter service to low income pet owners. Be sure a couple bucks to donate to the cause!
X-ALT-DESC;FMTTYPE=text/html:<span style="color: rgb(75\, 79\, 86)\; font-family: Helvetica\, Arial\, sans-serif\; font-size: 14px\; background-color: rgb(255\, 255\, 255)\;">Join us in welcoming Ye Old Barber Shop to Ferndale!</span><br style="color: rgb(75\, 79\, 86)\; font-family: Helvetica\, Arial\, sans-serif\; font-size: 14px\; background-color: rgb(255\, 255\, 255)\;" />\n<span style="color: rgb(75\, 79\, 86)\; font-family: Helvetica\, Arial\, sans-serif\; font-size: 14px\; background-color: rgb(255\, 255\, 255)\;">You may have already stopped in to get your hairs snipped\, but don&#39\;t miss the official snip of the ribbon at 4:30pm!</span><br style="color: rgb(75\, 79\, 86)\; font-family: Helvetica\, Arial\, sans-serif\; font-size: 14px\; background-color: rgb(255\, 255\, 255)\;" />\n<br style="color: rgb(75\, 79\, 86)\; font-family: Helvetica\, Arial\, sans-serif\; font-size: 14px\; background-color: rgb(255\, 255\, 255)\;" />\n<span style="color: rgb(75\, 79\, 86)\; font-family: Helvetica\, Arial\, sans-serif\; font-size: 14px\; background-color: rgb(255\, 255\, 255)\;">Plus\, event features a raffle with 100% of proceeds raised going toward WeSNIP\, a local non-profit that provides spay and neuter service to low income pet owners. Be sure a couple bucks to donate to the cause!</span>
LOCATION:2026 Main St\, Ste 101
UID:e.2362.5855
SEQUENCE:3
DTSTAMP:20260425T214239Z
URL:https://business.ferndale-chamber.com/events/details/ye-old-barber-shop-open-house-ribbon-cutting-5855
END:VEVENT

END:VCALENDAR
